BEGIN:VCALENDAR
VERSION:2.0
PRODID:-//GR MED Centrum Medycyny Żywieniowej i Dietoterapii - ECPv5.5.0.1//NONSGML v1.0//EN
CALSCALE:GREGORIAN
METHOD:PUBLISH
X-WR-CALNAME:GR MED Centrum Medycyny Żywieniowej i Dietoterapii
X-ORIGINAL-URL:https://grmed.pl
X-WR-CALDESC:Wydarzenia na GR MED Centrum Medycyny Żywieniowej i Dietoterapii
BEGIN:VTIMEZONE
TZID:Europe/Warsaw
BEGIN:DAYLIGHT
TZOFFSETFROM:+0100
TZOFFSETTO:+0200
TZNAME:CEST
DTSTART:20180325T010000
END:DAYLIGHT
BEGIN:STANDARD
TZOFFSETFROM:+0200
TZOFFSETTO:+0100
TZNAME:CET
DTSTART:20181028T010000
END:STANDARD
END:VTIMEZONE
BEGIN:VEVENT
DTSTART;TZID=Europe/Warsaw:20180217T100000
DTEND;TZID=Europe/Warsaw:20180218T150000
DTSTAMP:20260423T212359
CREATED:20171113T131711Z
LAST-MODIFIED:20171113T132201Z
UID:2325-1518861600-1518966000@grmed.pl
SUMMARY:Choroby autoimmunizacyjne w praktyce Dietetyka - POZIOM I
DESCRIPTION:Zapraszamy na I poziom szkolenia „Choroby autoimmunizacyjne”! \nSzkolenie skierowane jest przede wszystkim do dietetyków\, studentów dietetyki i kierunków pokrewnych\, specjalistów żywieniowych i osób zajmujących się szeroko pojętym doradztwem zdrowotnym i żywieniowym oraz do wszystkich zainteresowanych leczeniem kompleksowym chorób autoimmunizacyjnych.
URL:https://grmed.pl/wydarzenie/choroby-autoimmunizacyjne-w-praktyce-dietetyka-poziom-i/
LOCATION:Golden Floor w Millenium Plaza\, Al. Jerozolimskie 123a\, Warszawa\, Polska
CATEGORIES:Szkolenia-Konferencje
END:VEVENT
END:VCALENDAR