BEGIN:VCALENDAR
VERSION:2.0
PRODID:-//GR MED Centrum Medycyny Żywieniowej i Dietoterapii - ECPv5.5.0.1//NONSGML v1.0//EN
CALSCALE:GREGORIAN
METHOD:PUBLISH
X-WR-CALNAME:GR MED Centrum Medycyny Żywieniowej i Dietoterapii
X-ORIGINAL-URL:https://grmed.pl
X-WR-CALDESC:Wydarzenia na GR MED Centrum Medycyny Żywieniowej i Dietoterapii
BEGIN:VTIMEZONE
TZID:Europe/Warsaw
BEGIN:DAYLIGHT
TZOFFSETFROM:+0100
TZOFFSETTO:+0200
TZNAME:CEST
DTSTART:20180325T010000
END:DAYLIGHT
BEGIN:STANDARD
TZOFFSETFROM:+0200
TZOFFSETTO:+0100
TZNAME:CET
DTSTART:20181028T010000
END:STANDARD
END:VTIMEZONE
BEGIN:VEVENT
DTSTART;TZID=Europe/Warsaw:20180112T190000
DTEND;TZID=Europe/Warsaw:20180112T200000
DTSTAMP:20260424T150920
CREATED:20171115T145549Z
LAST-MODIFIED:20171120T125340Z
UID:2337-1515783600-1515787200@grmed.pl
SUMMARY:Dietoterapia w niepłodności - webinar nr3
DESCRIPTION: Płodność a immunologia i genetyka. \n\n\n\n\n\n\n\n✓\nNiepłodność immunologiczna\n\n\n\n\n\n\n\n\n\n\n✓\nDiagnostyka immunologiczna niepłodności – o czym należy pamiętać\n\n\n\n\n\n\n\n\n\n\n✓\nW jaki sposób Hashimoto może wpływać na płodność kobiety\n\n\n\n\n\n\n\n\n\n\n✓\nDietoterapia a poprawa płodności – jak wdrażać zalecenia żywieniowe\n\n\n\n\n\n\n\n\n\n\n✓\nPolimorfizmy genetyczne i zaburzenia metylacji a poronienia
URL:https://grmed.pl/wydarzenie/dietoterapia-w-nieplodnosci-webinar-3/
CATEGORIES:Szkolenia-Konferencje
END:VEVENT
END:VCALENDAR