BEGIN:VCALENDAR
VERSION:2.0
PRODID:-//GR MED Centrum Medycyny Żywieniowej i Dietoterapii - ECPv5.5.0.1//NONSGML v1.0//EN
CALSCALE:GREGORIAN
METHOD:PUBLISH
X-WR-CALNAME:GR MED Centrum Medycyny Żywieniowej i Dietoterapii
X-ORIGINAL-URL:https://grmed.pl
X-WR-CALDESC:Wydarzenia na GR MED Centrum Medycyny Żywieniowej i Dietoterapii
BEGIN:VTIMEZONE
TZID:Europe/Warsaw
BEGIN:DAYLIGHT
TZOFFSETFROM:+0100
TZOFFSETTO:+0200
TZNAME:CEST
DTSTART:20170326T010000
END:DAYLIGHT
BEGIN:STANDARD
TZOFFSETFROM:+0200
TZOFFSETTO:+0100
TZNAME:CET
DTSTART:20171029T010000
END:STANDARD
END:VTIMEZONE
BEGIN:VEVENT
DTSTART;TZID=Europe/Warsaw:20171130T190000
DTEND;TZID=Europe/Warsaw:20171130T200000
DTSTAMP:20260423T224029
CREATED:20171115T145352Z
LAST-MODIFIED:20171120T125608Z
UID:2333-1512068400-1512072000@grmed.pl
SUMMARY:Dietoterapia w niepłodności - webinar nr1
DESCRIPTION:Wstęp do dietoterapii zaburzeń płodności. \n\n\n\n\n\n\n\n✓\nEpidemiologia niepłodności w Polsce i na świecie\n\n\n\n\n\n\n\n\n\n\n✓\nJakie są najczęstsze problemy związane z płodnością\n\n\n\n\n\n\n\n\n\n\n✓\nDiagnostyka laboratoryjna zaburzeń miesiączkowania\n\n\n\n\n\n\n\n\n\n\n✓\nJakie związki roślinne warto wykorzystywać w terapii zaburzeń miesiączkowania\n\n\n\n\n\n\n\n\n\n\n✓\nJak leczenie onkologiczne wpływa na płodność kobiety
URL:https://grmed.pl/wydarzenie/dietoterapia-w-nieplodnosci-webinar/
CATEGORIES:Szkolenia-Konferencje
END:VEVENT
END:VCALENDAR