BEGIN:VCALENDAR
VERSION:2.0
PRODID:-//GR MED Centrum Medycyny Żywieniowej i Dietoterapii - ECPv5.5.0.1//NONSGML v1.0//EN
CALSCALE:GREGORIAN
METHOD:PUBLISH
X-WR-CALNAME:GR MED Centrum Medycyny Żywieniowej i Dietoterapii
X-ORIGINAL-URL:https://grmed.pl
X-WR-CALDESC:Wydarzenia na GR MED Centrum Medycyny Żywieniowej i Dietoterapii
BEGIN:VTIMEZONE
TZID:Europe/Warsaw
BEGIN:DAYLIGHT
TZOFFSETFROM:+0100
TZOFFSETTO:+0200
TZNAME:CEST
DTSTART:20180325T010000
END:DAYLIGHT
BEGIN:STANDARD
TZOFFSETFROM:+0200
TZOFFSETTO:+0100
TZNAME:CET
DTSTART:20181028T010000
END:STANDARD
END:VTIMEZONE
BEGIN:VEVENT
DTSTART;TZID=Europe/Warsaw:20180602T090000
DTEND;TZID=Europe/Warsaw:20180602T180000
DTSTAMP:20260423T212708
CREATED:20180417T120517Z
LAST-MODIFIED:20180417T120517Z
UID:2679-1527930000-1527962400@grmed.pl
SUMMARY:I Międzynarodowa Konferencja Medycyny Integracyjnej
DESCRIPTION:Już w czerwcu mgr Dominika Gier poprowadzi wykład w ramach I Międzynarodowej Konferencji Medycyny Integracyjnej. Na konferencji zostaną poruszone zagadnienia mikrobiomu jamy ustnej i wpływu leczenia zachowawczego jako czynnika spustowego wywołującego szereg objawów chorobowych w organizmie człowieka. \nTematyka wykładu mgr Dominiki Gier: „Choroby przyzębia – czynniki ryzyka i długofalowe skutki zdrowotne” \nSzczegóły dostępne na Facebook’u: I Międzynarodowa Konferencja Medycyny Integracyjnej
URL:https://grmed.pl/wydarzenie/i-miedzynarodowa-konferencja-medycyny-integracyjnej/
LOCATION:Warszawa
CATEGORIES:Szkolenia-Konferencje,Wydarzenia
END:VEVENT
END:VCALENDAR