BEGIN:VCALENDAR
VERSION:2.0
PRODID:-//GR MED Centrum Medycyny Żywieniowej i Dietoterapii - ECPv5.5.0.1//NONSGML v1.0//EN
CALSCALE:GREGORIAN
METHOD:PUBLISH
X-WR-CALNAME:GR MED Centrum Medycyny Żywieniowej i Dietoterapii
X-ORIGINAL-URL:https://grmed.pl
X-WR-CALDESC:Wydarzenia na GR MED Centrum Medycyny Żywieniowej i Dietoterapii
BEGIN:VTIMEZONE
TZID:Europe/Warsaw
BEGIN:DAYLIGHT
TZOFFSETFROM:+0100
TZOFFSETTO:+0200
TZNAME:CEST
DTSTART:20170326T010000
END:DAYLIGHT
BEGIN:STANDARD
TZOFFSETFROM:+0200
TZOFFSETTO:+0100
TZNAME:CET
DTSTART:20171029T010000
END:STANDARD
END:VTIMEZONE
BEGIN:VEVENT
DTSTART;TZID=Europe/Warsaw:20170603T080000
DTEND;TZID=Europe/Warsaw:20170604T170000
DTSTAMP:20260423T223540
CREATED:20171120T112415Z
LAST-MODIFIED:20171120T124215Z
UID:2342-1496476800-1496595600@grmed.pl
SUMMARY:II Ogólnopolski Kongres Dietetyki i Medycyny Funkcjonalnej
DESCRIPTION:Hasłem przewodnim tegorocznego Kongresu jest SYNERGIA LECZENIA I SZEROKIE SPEKTRUM NOWOCZESNYCH TERAPII \nPrzygotowaliśmy dla Państwa dwa dni prelekcji pełnych praktycznych informacji\, nowych doniesień naukowych i nowatorskich metod leczenia. Różnorodna tematyka Kongresu ukaże Państwu interdyscyplinarne podejście do problemów zdrowotnych naszego społeczeństwa oraz pokaże możliwości skutecznego postępowania. \n 
URL:https://grmed.pl/wydarzenie/ii-ogolnopolski-kongres-dietetyki-i-medycyny-funkcjonalnej/
LOCATION:Hotel SPA Faltom\, Grunwaldzka 7\, Rumia\, 84-230\, Polska
CATEGORIES:Szkolenia-Konferencje
END:VEVENT
END:VCALENDAR