BEGIN:VCALENDAR
VERSION:2.0
PRODID:-//GR MED Centrum Medycyny Żywieniowej i Dietoterapii - ECPv5.5.0.1//NONSGML v1.0//EN
CALSCALE:GREGORIAN
METHOD:PUBLISH
X-WR-CALNAME:GR MED Centrum Medycyny Żywieniowej i Dietoterapii
X-ORIGINAL-URL:https://grmed.pl
X-WR-CALDESC:Wydarzenia na GR MED Centrum Medycyny Żywieniowej i Dietoterapii
BEGIN:VTIMEZONE
TZID:Europe/Warsaw
BEGIN:DAYLIGHT
TZOFFSETFROM:+0100
TZOFFSETTO:+0200
TZNAME:CEST
DTSTART:20190331T010000
END:DAYLIGHT
BEGIN:STANDARD
TZOFFSETFROM:+0200
TZOFFSETTO:+0100
TZNAME:CET
DTSTART:20191027T010000
END:STANDARD
END:VTIMEZONE
BEGIN:VEVENT
DTSTART;TZID=Europe/Warsaw:20190413T090000
DTEND;TZID=Europe/Warsaw:20190413T170000
DTSTAMP:20260423T212232
CREATED:20190409T073919Z
LAST-MODIFIED:20190409T074039Z
UID:2916-1555146000-1555174800@grmed.pl
SUMMARY:Konferencja Odchudzanie w praktyce
DESCRIPTION:Nasz dietetyk Dominika Gier weźmie udział w panelu dyskusyjnym dotyczącym współpracy lekarzy i dietetyków w opiece nad pacjentem. Zapraszamy do udziału w Konferencji.
URL:https://grmed.pl/wydarzenie/konferencja-odchudzanie-w-praktyce/
LOCATION:Poznań
END:VEVENT
END:VCALENDAR