BEGIN:VCALENDAR
VERSION:2.0
PRODID:-//GR MED Centrum Medycyny Żywieniowej i Dietoterapii - ECPv5.5.0.1//NONSGML v1.0//EN
CALSCALE:GREGORIAN
METHOD:PUBLISH
X-WR-CALNAME:GR MED Centrum Medycyny Żywieniowej i Dietoterapii
X-ORIGINAL-URL:https://grmed.pl
X-WR-CALDESC:Wydarzenia na GR MED Centrum Medycyny Żywieniowej i Dietoterapii
BEGIN:VTIMEZONE
TZID:Europe/Warsaw
BEGIN:DAYLIGHT
TZOFFSETFROM:+0100
TZOFFSETTO:+0200
TZNAME:CEST
DTSTART:20180325T010000
END:DAYLIGHT
BEGIN:STANDARD
TZOFFSETFROM:+0200
TZOFFSETTO:+0100
TZNAME:CET
DTSTART:20181028T010000
END:STANDARD
END:VTIMEZONE
BEGIN:VEVENT
DTSTART;TZID=Europe/Warsaw:20180901T170000
DTEND;TZID=Europe/Warsaw:20180901T180000
DTSTAMP:20260423T211606
CREATED:20180702T151952Z
LAST-MODIFIED:20180702T152823Z
UID:2765-1535821200-1535824800@grmed.pl
SUMMARY:LIVE na Facebook
DESCRIPTION:Zapraszamy 01 wrzesnia\, godzina 17:00! dietetyk Dominika Gier wraz z dietetyk Monika Gackowska live na Facebook – będzie o alergiach\, nietolerancjach pokarmowych i probiotykoterapii. Odpowiemy na zadawane przez Państwa pytania. \nWięcej o wydarzeniu na https://web.facebook.com/events/116279195908422/
URL:https://grmed.pl/wydarzenie/live-na-facebook/
CATEGORIES:Szkolenia-Konferencje,Wydarzenia
ATTACH;FMTTYPE=image/jpeg:https://grmed.pl/wp-content/uploads/2018/07/live.jpg
END:VEVENT
END:VCALENDAR