BEGIN:VCALENDAR
VERSION:2.0
PRODID:-//GR MED Centrum Medycyny Żywieniowej i Dietoterapii - ECPv5.5.0.1//NONSGML v1.0//EN
CALSCALE:GREGORIAN
METHOD:PUBLISH
X-WR-CALNAME:GR MED Centrum Medycyny Żywieniowej i Dietoterapii
X-ORIGINAL-URL:https://grmed.pl
X-WR-CALDESC:Wydarzenia na GR MED Centrum Medycyny Żywieniowej i Dietoterapii
BEGIN:VTIMEZONE
TZID:Europe/Warsaw
BEGIN:DAYLIGHT
TZOFFSETFROM:+0100
TZOFFSETTO:+0200
TZNAME:CEST
DTSTART:20180325T010000
END:DAYLIGHT
BEGIN:STANDARD
TZOFFSETFROM:+0200
TZOFFSETTO:+0100
TZNAME:CET
DTSTART:20181028T010000
END:STANDARD
END:VTIMEZONE
BEGIN:VEVENT
DTSTART;TZID=Europe/Warsaw:20181124T080000
DTEND;TZID=Europe/Warsaw:20181124T170000
DTSTAMP:20260423T212424
CREATED:20181115T123130Z
LAST-MODIFIED:20181115T123327Z
UID:2852-1543046400-1543078800@grmed.pl
SUMMARY:Mikrobiota - najnowsze strategie probiotyczne 2018
DESCRIPTION:Konferencja podczas której pani Dominika Gier wygłosi dwa wykłady: \n\nZnaczenie i modulacja mikrobioty jelitowej w prewencji chorób autoimmunizacyjnych.\nNadwrażliwości IgG- zależne – strategie probiotyczne w walce z przewlekłym stanem zapalnym.
URL:https://grmed.pl/wydarzenie/mikrobiota-najnowsze-strategie-probiotyczne-2018/
CATEGORIES:Szkolenia-Konferencje,Wydarzenia
END:VEVENT
END:VCALENDAR