BEGIN:VCALENDAR
VERSION:2.0
PRODID:-//GR MED Centrum Medycyny Żywieniowej i Dietoterapii - ECPv5.5.0.1//NONSGML v1.0//EN
CALSCALE:GREGORIAN
METHOD:PUBLISH
X-WR-CALNAME:GR MED Centrum Medycyny Żywieniowej i Dietoterapii
X-ORIGINAL-URL:https://grmed.pl
X-WR-CALDESC:Wydarzenia na GR MED Centrum Medycyny Żywieniowej i Dietoterapii
BEGIN:VTIMEZONE
TZID:Europe/Warsaw
BEGIN:DAYLIGHT
TZOFFSETFROM:+0100
TZOFFSETTO:+0200
TZNAME:CEST
DTSTART:20180325T010000
END:DAYLIGHT
BEGIN:STANDARD
TZOFFSETFROM:+0200
TZOFFSETTO:+0100
TZNAME:CET
DTSTART:20181028T010000
END:STANDARD
END:VTIMEZONE
BEGIN:VEVENT
DTSTART;VALUE=DATE:20180511
DTEND;VALUE=DATE:20180512
DTSTAMP:20260423T211627
CREATED:20180417T121104Z
LAST-MODIFIED:20180417T121104Z
UID:2682-1525996800-1526083199@grmed.pl
SUMMARY:Webinar - "Leczenie otyłości"
DESCRIPTION:Już 11 maja mgr Dominika Gier poprowadzi webinar z cyklu Akademii Dietetyki\, organizowanej przez Food Forum. Tematem webinaru będzie leczenie otyłości. \nSerdecznie zapraszamy do udziału! \n 
URL:https://grmed.pl/wydarzenie/webinar-leczenie-otylosci/
CATEGORIES:Szkolenia-Konferencje,Wydarzenia
END:VEVENT
END:VCALENDAR